BEGIN:VCALENDAR
VERSION:2.0
PRODID:-//Opportunity Home San Antonio - ECPv6.15.20//NONSGML v1.0//EN
CALSCALE:GREGORIAN
METHOD:PUBLISH
X-ORIGINAL-URL:https://homesa.org
X-WR-CALDESC:Events for Opportunity Home San Antonio
REFRESH-INTERVAL;VALUE=DURATION:PT1H
X-Robots-Tag:noindex
X-PUBLISHED-TTL:PT1H
BEGIN:VTIMEZONE
TZID:America/Chicago
BEGIN:DAYLIGHT
TZOFFSETFROM:-0600
TZOFFSETTO:-0500
TZNAME:CDT
DTSTART:20200308T080000
END:DAYLIGHT
BEGIN:STANDARD
TZOFFSETFROM:-0500
TZOFFSETTO:-0600
TZNAME:CST
DTSTART:20201101T070000
END:STANDARD
BEGIN:DAYLIGHT
TZOFFSETFROM:-0600
TZOFFSETTO:-0500
TZNAME:CDT
DTSTART:20210314T080000
END:DAYLIGHT
BEGIN:STANDARD
TZOFFSETFROM:-0500
TZOFFSETTO:-0600
TZNAME:CST
DTSTART:20211107T070000
END:STANDARD
BEGIN:DAYLIGHT
TZOFFSETFROM:-0600
TZOFFSETTO:-0500
TZNAME:CDT
DTSTART:20220313T080000
END:DAYLIGHT
BEGIN:STANDARD
TZOFFSETFROM:-0500
TZOFFSETTO:-0600
TZNAME:CST
DTSTART:20221106T070000
END:STANDARD
END:VTIMEZONE
BEGIN:VEVENT
DTSTART;TZID=America/Chicago:20210224T093000
DTEND;TZID=America/Chicago:20210224T123000
DTSTAMP:20260423T004603
CREATED:20210216T231146Z
LAST-MODIFIED:20210216T231146Z
UID:10000251-1614159000-1614169800@homesa.org
SUMMARY:South Texas Regional Convening
DESCRIPTION:  \n\nPlease join the ConnectHome communities of South Texas for a convening on best practices\, strategies\, and goals for bridging the digital divide. \nMicrosoft Teams meeting\nJoin on your computer or mobile app \nClick here to join the meeting \nCall in (audio only)\n+1 202-510-9533\,\,269091338#\nPhone Conference ID: 269 091 338#\n                                                                                                                                              *This Meeting Will Be Recorded
URL:https://homesa.org/event/stx-digitaldivide/
LOCATION:Virtual\, TX\, United States
CATEGORIES:Family,Free,Meetings
ATTACH;FMTTYPE=image/jpeg:https://homesa.org/wp-content/uploads/2020/10/VictoriaCommonsMeeting.jpg
END:VEVENT
END:VCALENDAR