BEGIN:VCALENDAR
VERSION:2.0
PRODID:-//Opportunity Home San Antonio - ECPv6.15.20//NONSGML v1.0//EN
CALSCALE:GREGORIAN
METHOD:PUBLISH
X-WR-CALNAME:Opportunity Home San Antonio
X-ORIGINAL-URL:https://homesa.org
X-WR-CALDESC:Events for Opportunity Home San Antonio
REFRESH-INTERVAL;VALUE=DURATION:PT1H
X-Robots-Tag:noindex
X-PUBLISHED-TTL:PT1H
BEGIN:VTIMEZONE
TZID:America/Chicago
BEGIN:DAYLIGHT
TZOFFSETFROM:-0600
TZOFFSETTO:-0500
TZNAME:CDT
DTSTART:20200308T080000
END:DAYLIGHT
BEGIN:STANDARD
TZOFFSETFROM:-0500
TZOFFSETTO:-0600
TZNAME:CST
DTSTART:20201101T070000
END:STANDARD
BEGIN:DAYLIGHT
TZOFFSETFROM:-0600
TZOFFSETTO:-0500
TZNAME:CDT
DTSTART:20210314T080000
END:DAYLIGHT
BEGIN:STANDARD
TZOFFSETFROM:-0500
TZOFFSETTO:-0600
TZNAME:CST
DTSTART:20211107T070000
END:STANDARD
BEGIN:DAYLIGHT
TZOFFSETFROM:-0600
TZOFFSETTO:-0500
TZNAME:CDT
DTSTART:20220313T080000
END:DAYLIGHT
BEGIN:STANDARD
TZOFFSETFROM:-0500
TZOFFSETTO:-0600
TZNAME:CST
DTSTART:20221106T070000
END:STANDARD
END:VTIMEZONE
BEGIN:VEVENT
DTSTART;TZID=America/Chicago:20211201T140000
DTEND;TZID=America/Chicago:20211201T150000
DTSTAMP:20260425T051739
CREATED:20211124T034714Z
LAST-MODIFIED:20211124T034929Z
UID:10000285-1638367200-1638370800@homesa.org
SUMMARY:Virtual Landlord Workgroup Meeting
DESCRIPTION:  \nWe’re excited to host our virtual Opportunity Home Landlord Workgroup meeting at 2 p.m. on Dec. 1\, to discuss the Landlord Corner. \nAfter registering for the meeting below\, you will receive a confirmation email containing information about joining the meeting. \nREGISTER HERE
URL:https://homesa.org/event/declandlordworkgroup/
LOCATION:Virtual\, TX\, United States
CATEGORIES:Free,Landlords,Meetings
ATTACH;FMTTYPE=image/jpeg:https://homesa.org/wp-content/uploads/2020/07/homesa_HCVLandlordSeminar.jpg
END:VEVENT
BEGIN:VEVENT
DTSTART;TZID=America/Chicago:20211013T090000
DTEND;TZID=America/Chicago:20211013T120000
DTSTAMP:20260425T051739
CREATED:20211001T185116Z
LAST-MODIFIED:20211001T211447Z
UID:10000280-1634115600-1634126400@homesa.org
SUMMARY:UT Health COVID-19 and Flu Shot Vaccination Clinic
DESCRIPTION:  \nThe UT Health Center at San Antonio will provide residents of Gardens at San Juan with the opportunity to receive their COVID-19 or Flu Vaccination.
URL:https://homesa.org/event/utvaccineclinic/
LOCATION:Gardens at San Juan\, 2003 S. Zarzamora St\, San Antonio\, TX\, United States
CATEGORIES:Free,Landlords,Meetings
ATTACH;FMTTYPE=image/jpeg:https://homesa.org/wp-content/uploads/2021/10/IMG_7791-scaled.jpeg
END:VEVENT
BEGIN:VEVENT
DTSTART;TZID=America/Chicago:20211006T140000
DTEND;TZID=America/Chicago:20211006T150000
DTSTAMP:20260425T051739
CREATED:20210916T175230Z
LAST-MODIFIED:20210922T160132Z
UID:10000273-1633528800-1633532400@homesa.org
SUMMARY:Virtual Landlord Workgroup Meeting
DESCRIPTION:  \nWe’re excited to host our third virtual Opportunity Home Landlord Workgroup meeting at 2 p.m. on Oct. 6\, to discuss the Small Area Fair Market Rents (SAFMRs). \nWe have compiled a list of most frequently asked questions (FAQ) from the Request for Rental Change topic on Aug 25\, 2021\, which you can review here. \nAfter registering for the meeting below\, you will receive a confirmation email containing information about joining the meeting. \nREGISTER HERE
URL:https://homesa.org/event/virtual-landlord-workgroup-meeting/
LOCATION:TX
CATEGORIES:Free,Landlords,Meetings
ATTACH;FMTTYPE=image/jpeg:https://homesa.org/wp-content/uploads/2020/07/homesa_HCVLandlordSeminar.jpg
END:VEVENT
BEGIN:VEVENT
DTSTART;TZID=America/Chicago:20210909T100000
DTEND;TZID=America/Chicago:20210909T113000
DTSTAMP:20260425T051739
CREATED:20210827T001734Z
LAST-MODIFIED:20210827T002355Z
UID:10000270-1631181600-1631187000@homesa.org
SUMMARY:Small Business Training for Residents
DESCRIPTION:  \nJoin HUD for this exciting virtual seminar for HUD-assisted\, low-income residents\, and others interested in starting or expanding a business to gain a deeper knowledge of how to start\, grow\, expand\, and/or maintain a small business venture. \nThis training intends to increase the number of individuals\, entrepreneurs\, residents\, etc. who already own or would like to start a small business and ultimately receive contracts under Section 3 provisions as well as participate in other opportunities and assistance available to small businesses. \nREGISTER HERE
URL:https://homesa.org/event/smallbusinesstraining/
LOCATION:TX
CATEGORIES:Free,Landlords,Meetings
ATTACH;FMTTYPE=image/jpeg:https://homesa.org/wp-content/uploads/2021/08/SmallBusiness.jpg
END:VEVENT
BEGIN:VEVENT
DTSTART;TZID=America/Chicago:20210825T140000
DTEND;TZID=America/Chicago:20210825T150000
DTSTAMP:20260425T051739
CREATED:20210811T151600Z
LAST-MODIFIED:20210811T152204Z
UID:10000268-1629900000-1629903600@homesa.org
SUMMARY:Virtual Landlord Workgroup Meeting
DESCRIPTION:  \nJoin us for our second virtual meeting on Aug. 25 at 2 p.m. as we convene a Opportunity Home Landlord Workgroup to address key policy issues\, improve communication efforts and gain insight into our landlord partnerships.\nREGISTER HERE
URL:https://homesa.org/event/landlord-workgroup-meeting/
LOCATION:TX
CATEGORIES:Free,Landlords,Meetings
ATTACH;FMTTYPE=image/jpeg:https://homesa.org/wp-content/uploads/2020/07/homesa_HCVLandlordSeminar.jpg
END:VEVENT
END:VCALENDAR