BEGIN:VCALENDAR
VERSION:2.0
PRODID:-//Opportunity Home San Antonio - ECPv6.15.20//NONSGML v1.0//EN
CALSCALE:GREGORIAN
METHOD:PUBLISH
X-ORIGINAL-URL:https://homesa.org
X-WR-CALDESC:Events for Opportunity Home San Antonio
REFRESH-INTERVAL;VALUE=DURATION:PT1H
X-Robots-Tag:noindex
X-PUBLISHED-TTL:PT1H
BEGIN:VTIMEZONE
TZID:America/Chicago
BEGIN:DAYLIGHT
TZOFFSETFROM:-0600
TZOFFSETTO:-0500
TZNAME:CDT
DTSTART:20190310T080000
END:DAYLIGHT
BEGIN:STANDARD
TZOFFSETFROM:-0500
TZOFFSETTO:-0600
TZNAME:CST
DTSTART:20191103T070000
END:STANDARD
BEGIN:DAYLIGHT
TZOFFSETFROM:-0600
TZOFFSETTO:-0500
TZNAME:CDT
DTSTART:20200308T080000
END:DAYLIGHT
BEGIN:STANDARD
TZOFFSETFROM:-0500
TZOFFSETTO:-0600
TZNAME:CST
DTSTART:20201101T070000
END:STANDARD
BEGIN:DAYLIGHT
TZOFFSETFROM:-0600
TZOFFSETTO:-0500
TZNAME:CDT
DTSTART:20210314T080000
END:DAYLIGHT
BEGIN:STANDARD
TZOFFSETFROM:-0500
TZOFFSETTO:-0600
TZNAME:CST
DTSTART:20211107T070000
END:STANDARD
END:VTIMEZONE
BEGIN:VEVENT
DTSTART;TZID=America/Chicago:20200118T110000
DTEND;TZID=America/Chicago:20200118T120000
DTSTAMP:20260419T125849
CREATED:20200117T180010Z
LAST-MODIFIED:20200117T180010Z
UID:10000209-1579345200-1579348800@homesa.org
SUMMARY:Intro To Word
DESCRIPTION:Bibliotech West
URL:https://homesa.org/event/intro-to-word/
LOCATION:TX
END:VEVENT
BEGIN:VEVENT
DTSTART;TZID=America/Chicago:20200118T140000
DTEND;TZID=America/Chicago:20200118T160000
DTSTAMP:20260419T125849
CREATED:20200117T180325Z
LAST-MODIFIED:20200117T180325Z
UID:10000211-1579356000-1579363200@homesa.org
SUMMARY:Patron's Pick
DESCRIPTION:Biliotech West
URL:https://homesa.org/event/patrons-pick-5/
LOCATION:TX
END:VEVENT
END:VCALENDAR